BEGIN:VCALENDAR
VERSION:2.0
PRODID:-//Parent University - ECPv6.15.20//NONSGML v1.0//EN
CALSCALE:GREGORIAN
METHOD:PUBLISH
X-WR-CALNAME:Parent University
X-ORIGINAL-URL:https://parents.grps.org
X-WR-CALDESC:Events for Parent University
REFRESH-INTERVAL;VALUE=DURATION:PT1H
X-Robots-Tag:noindex
X-PUBLISHED-TTL:PT1H
BEGIN:VTIMEZONE
TZID:America/Detroit
BEGIN:DAYLIGHT
TZOFFSETFROM:-0500
TZOFFSETTO:-0400
TZNAME:EDT
DTSTART:20250309T070000
END:DAYLIGHT
BEGIN:STANDARD
TZOFFSETFROM:-0400
TZOFFSETTO:-0500
TZNAME:EST
DTSTART:20251102T060000
END:STANDARD
BEGIN:DAYLIGHT
TZOFFSETFROM:-0500
TZOFFSETTO:-0400
TZNAME:EDT
DTSTART:20260308T070000
END:DAYLIGHT
BEGIN:STANDARD
TZOFFSETFROM:-0400
TZOFFSETTO:-0500
TZNAME:EST
DTSTART:20261101T060000
END:STANDARD
BEGIN:DAYLIGHT
TZOFFSETFROM:-0500
TZOFFSETTO:-0400
TZNAME:EDT
DTSTART:20270314T070000
END:DAYLIGHT
BEGIN:STANDARD
TZOFFSETFROM:-0400
TZOFFSETTO:-0500
TZNAME:EST
DTSTART:20271107T060000
END:STANDARD
END:VTIMEZONE
BEGIN:VEVENT
DTSTART;TZID=America/Detroit:20260426T080000
DTEND;TZID=America/Detroit:20260426T170000
DTSTAMP:20260425T181031
CREATED:20260227T203844Z
LAST-MODIFIED:20260325T023906Z
UID:26073-1777190400-1777222800@parents.grps.org
SUMMARY:Citywide Art Show - Open To The Public
DESCRIPTION:
URL:https://parents.grps.org/event/citywide-art-show-open-to-the-public-5/
LOCATION:Western Michigan University\, 200 Ionia Ave SW\, Grand Rapids\, MI\, United States
CATEGORIES:District Calendar
ORGANIZER;CN="grps.finearts@gmail.com":MAILTO:grps.finearts@gmail.com
END:VEVENT
END:VCALENDAR