BEGIN:VCALENDAR
VERSION:2.0
PRODID:-//Parent University - ECPv6.15.20//NONSGML v1.0//EN
CALSCALE:GREGORIAN
METHOD:PUBLISH
X-WR-CALNAME:Parent University
X-ORIGINAL-URL:https://parents.grps.org
X-WR-CALDESC:Events for Parent University
REFRESH-INTERVAL;VALUE=DURATION:PT1H
X-Robots-Tag:noindex
X-PUBLISHED-TTL:PT1H
BEGIN:VTIMEZONE
TZID:America/Detroit
BEGIN:DAYLIGHT
TZOFFSETFROM:-0500
TZOFFSETTO:-0400
TZNAME:EDT
DTSTART:20250309T070000
END:DAYLIGHT
BEGIN:STANDARD
TZOFFSETFROM:-0400
TZOFFSETTO:-0500
TZNAME:EST
DTSTART:20251102T060000
END:STANDARD
BEGIN:DAYLIGHT
TZOFFSETFROM:-0500
TZOFFSETTO:-0400
TZNAME:EDT
DTSTART:20260308T070000
END:DAYLIGHT
BEGIN:STANDARD
TZOFFSETFROM:-0400
TZOFFSETTO:-0500
TZNAME:EST
DTSTART:20261101T060000
END:STANDARD
BEGIN:DAYLIGHT
TZOFFSETFROM:-0500
TZOFFSETTO:-0400
TZNAME:EDT
DTSTART:20270314T070000
END:DAYLIGHT
BEGIN:STANDARD
TZOFFSETFROM:-0400
TZOFFSETTO:-0500
TZNAME:EST
DTSTART:20271107T060000
END:STANDARD
END:VTIMEZONE
BEGIN:VEVENT
DTSTART;TZID=America/Detroit:20260331T173000
DTEND;TZID=America/Detroit:20260331T190000
DTSTAMP:20260425T135241
CREATED:20260310T205501Z
LAST-MODIFIED:20260325T023856Z
UID:26099-1774978200-1774983600@parents.grps.org
SUMMARY:Native American Education Program (NAEP) Library Ribbon-Cutting
DESCRIPTION:5:30 pm: Program\n5:45-7:00 pm: Open House\nLight refreshments provided.
URL:https://parents.grps.org/event/native-american-education-program-naep-library-ribbon-cutting/
LOCATION:850 Chatham St NW\, Grand Rapids\, MI\, United States
CATEGORIES:District Calendar
END:VEVENT
END:VCALENDAR